BEGIN:VCALENDAR
VERSION:2.0
PRODID:-//Borderline Rhein-Main e. V. - ECPv6.15.20//NONSGML v1.0//EN
CALSCALE:GREGORIAN
METHOD:PUBLISH
X-WR-CALNAME:Borderline Rhein-Main e. V.
X-ORIGINAL-URL:https://borderlinerheinmain.de
X-WR-CALDESC:Veranstaltungen für Borderline Rhein-Main e. V.
REFRESH-INTERVAL;VALUE=DURATION:PT1H
X-Robots-Tag:noindex
X-PUBLISHED-TTL:PT1H
BEGIN:VTIMEZONE
TZID:Europe/Berlin
BEGIN:DAYLIGHT
TZOFFSETFROM:+0100
TZOFFSETTO:+0200
TZNAME:CEST
DTSTART:20240331T010000
END:DAYLIGHT
BEGIN:STANDARD
TZOFFSETFROM:+0200
TZOFFSETTO:+0100
TZNAME:CET
DTSTART:20241027T010000
END:STANDARD
BEGIN:DAYLIGHT
TZOFFSETFROM:+0100
TZOFFSETTO:+0200
TZNAME:CEST
DTSTART:20250330T010000
END:DAYLIGHT
BEGIN:STANDARD
TZOFFSETFROM:+0200
TZOFFSETTO:+0100
TZNAME:CET
DTSTART:20251026T010000
END:STANDARD
BEGIN:DAYLIGHT
TZOFFSETFROM:+0100
TZOFFSETTO:+0200
TZNAME:CEST
DTSTART:20260329T010000
END:DAYLIGHT
BEGIN:STANDARD
TZOFFSETFROM:+0200
TZOFFSETTO:+0100
TZNAME:CET
DTSTART:20261025T010000
END:STANDARD
END:VTIMEZONE
BEGIN:VEVENT
DTSTART;TZID=Europe/Berlin:20251107T090000
DTEND;TZID=Europe/Berlin:20251107T154500
DTSTAMP:20260425T060902
CREATED:20250809T135225Z
LAST-MODIFIED:20250809T135225Z
UID:3628-1762506000-1762530300@borderlinerheinmain.de
SUMMARY:Bundesweiter 18. Borderline-Trialog
DESCRIPTION:Der nächste bundesweite Borderlinetrialog findet am 7. November 2025 im Bezirksklinikum Ansbach statt. \nDas genaue Programm gibt es auf der Homepage der Borderline-Trialog Kontakt- und Informationsstelle. \nDort können auch Trialoge in anderen Städten Deutschlands recherchiert werden. \nZur Anmeldung bitte hier klicken: Link \n  \nDie Tagungsgebühr\, inklusive Mittagessen\,beträgt 45 €\, ermäßigt 25 €. \n  \nDie Gebühr für die Online-Teilnahme beträgt 25 €\, zu zahlen an das Konto des Förderkreis Borderline-Trialog e.V. IBAN DE 80 760 501010011445855. \nDie Zugangsdaten erhalten Sie nach Zahlungseingang durch den Borderline-Trialog. \nDer Anmeldeschluss ist der 31.10.2025. \n 
URL:https://borderlinerheinmain.de/event/bundesweiter-18-borderline-trialog/
END:VEVENT
BEGIN:VEVENT
DTSTART;TZID=Europe/Berlin:20251111T180000
DTEND;TZID=Europe/Berlin:20251111T193000
DTSTAMP:20260425T060902
CREATED:20250921T111353Z
LAST-MODIFIED:20251030T185320Z
UID:3816-1762884000-1762889400@borderlinerheinmain.de
SUMMARY:Frankfurter (Online) Borderline Trialog November 2025
DESCRIPTION:Einladung zum Borderline-Trialog (Online) \nLiebe Trialog-Interessierte\, \nunser elfter Online-Trialog in diesem Jahr findet am 11. November 2025 von 18:00 bis 19:30 Uhr statt.\nEinstiegsthema: „Erfahrungen mit Gefühlen z.b. Wut\, Angst\, Trauer“ \nHier können Sie sich registrieren. \nTechnisches: \n\nWir nutzen Microsoft Teams. Sie können die App für Windows\, macOS\, Linux\, iOS oder Android installieren oder direkt über die Browser Google Chrome oder Microsoft Edge teilnehmen (Installation ist also nicht zwingend erforderlich).\nBitte führen Sie die Installation bzw. den Technik-Check nicht erst kurz vor Beginn durch. Planen Sie am besten 30 Minuten vorher oder schon am Vortag ein – so bleibt Zeit für eventuelle Fragen.\n\nWichtige Hinweise zur Anmeldung: \n\nUnter Vorname bitte den Namen angeben\, unter dem Sie angesprochen werden möchten.\nUnter Nachname tragen Sie bitte Ihre Gruppe ein: Betroffene / Angehörige / Profi / Interessierte.\nSie müssen nicht Ihren vollen Namen verwenden; Vorname oder Pseudonym genügen.\n\nBitte seien Sie bis 17:45 Uhr eingeloggt\, damit wir kurz die wichtigsten Funktionen und die Gruppenregeln vorstellen können. \nWir freuen uns auf den Austausch und darauf\, den Abend gemeinsam mit Ihnen bereichernd zu gestalten! \nHerzliche Grüße\nIhr Trialog-Orga-Team
URL:https://borderlinerheinmain.de/event/2025-11/
END:VEVENT
BEGIN:VEVENT
DTSTART;TZID=Europe/Berlin:20251125T080000
DTEND;TZID=Europe/Berlin:20251125T170000
DTSTAMP:20260425T060902
CREATED:20251125T063514Z
LAST-MODIFIED:20251125T070736Z
UID:3944-1764057600-1764090000@borderlinerheinmain.de
SUMMARY:Frankfurter (Online) Borderline Trialog Januar 2026
DESCRIPTION:Einladung zum Borderline-Trialog (Online) \nLiebe Trialog-Interessierte\, \nunser zwölfter und letzter Online-Trialog in diesem Jahr findet am 13. Januar 2026 von 18:00 bis 19:30 Uhr statt.\nEinstiegsthema: „t.b.d.“ \nHier können Sie sich registrieren. \nTechnisches: \n\nWir nutzen Microsoft Teams. Sie können die App für Windows\, macOS\, Linux\, iOS oder Android installieren oder direkt über die Browser Google Chrome oder Microsoft Edge teilnehmen (Installation ist also nicht zwingend erforderlich).\nBitte führen Sie die Installation bzw. den Technik-Check nicht erst kurz vor Beginn durch. Planen Sie am besten 30 Minuten vorher oder schon am Vortag ein – so bleibt Zeit für eventuelle Fragen.\n\nWichtige Hinweise zur Anmeldung: \n\nUnter Vorname bitte den Namen angeben\, unter dem Sie angesprochen werden möchten.\nUnter Nachname tragen Sie bitte Ihre Gruppe ein: Betroffene / Angehörige / Profi / Interessierte.\nSie müssen nicht Ihren vollen Namen verwenden; Vorname oder Pseudonym genügen.\n\nBitte seien Sie bis 17:45 Uhr eingeloggt\, damit wir kurz die wichtigsten Funktionen und die Gruppenregeln vorstellen können. \nWir freuen uns auf den Austausch und darauf\, den Abend gemeinsam mit Ihnen bereichernd zu gestalten! \nHerzliche Grüße\nIhr Trialog-Orga-Team
URL:https://borderlinerheinmain.de/event/frankfurter-online-borderline-trialog-januar-2026/
END:VEVENT
END:VCALENDAR