BEGIN:VCALENDAR
VERSION:2.0
PRODID:-//Borderline Rhein-Main e. V. - ECPv6.15.20//NONSGML v1.0//EN
CALSCALE:GREGORIAN
METHOD:PUBLISH
X-WR-CALNAME:Borderline Rhein-Main e. V.
X-ORIGINAL-URL:https://borderlinerheinmain.de
X-WR-CALDESC:Veranstaltungen für Borderline Rhein-Main e. V.
REFRESH-INTERVAL;VALUE=DURATION:PT1H
X-Robots-Tag:noindex
X-PUBLISHED-TTL:PT1H
BEGIN:VTIMEZONE
TZID:Europe/Berlin
BEGIN:DAYLIGHT
TZOFFSETFROM:+0100
TZOFFSETTO:+0200
TZNAME:CEST
DTSTART:20250330T010000
END:DAYLIGHT
BEGIN:STANDARD
TZOFFSETFROM:+0200
TZOFFSETTO:+0100
TZNAME:CET
DTSTART:20251026T010000
END:STANDARD
BEGIN:DAYLIGHT
TZOFFSETFROM:+0100
TZOFFSETTO:+0200
TZNAME:CEST
DTSTART:20260329T010000
END:DAYLIGHT
BEGIN:STANDARD
TZOFFSETFROM:+0200
TZOFFSETTO:+0100
TZNAME:CET
DTSTART:20261025T010000
END:STANDARD
BEGIN:DAYLIGHT
TZOFFSETFROM:+0100
TZOFFSETTO:+0200
TZNAME:CEST
DTSTART:20270328T010000
END:DAYLIGHT
BEGIN:STANDARD
TZOFFSETFROM:+0200
TZOFFSETTO:+0100
TZNAME:CET
DTSTART:20271031T010000
END:STANDARD
END:VTIMEZONE
BEGIN:VEVENT
DTSTART;TZID=Europe/Berlin:20260328T130000
DTEND;TZID=Europe/Berlin:20260328T150000
DTSTAMP:20260425T021846
CREATED:20260210T065504Z
LAST-MODIFIED:20260220T075155Z
UID:4053-1774702800-1774710000@borderlinerheinmain.de
SUMMARY:Kaffee\, Kultur & Karikaturen – Ein humorvoller Frühlingsnachmittag mit Perscheid 😄✨📚☕
DESCRIPTION:Am 28. März um 13:00 Uhr treffen wir uns im Caricatura Museum zur aktuellen Ausstellung über den bekannten Karikaturisten Perscheid 🖊️😄\nFreut euch auf feinsinnigen Humor\, pointierte Zeichnungen und garantiert ein paar gute Lacher.\nMehr Informationen zu der Ausstellung finden sie hier. \nIm Anschluss geht’s weiter ins Café Metropol 🍰☕\nDort genießen wir gemeinsam leckeren Kuchen und eine gute Tasse Kaffee in entspannter Atmosphäre. \nWir freuen uns sehr auf euch und einen wunderbaren Nachmittag! 💛✨ \nUm die Teilnehmenden besser zu vernetzen und bei kurzfristigen Änderungen schnell informieren zu können\, haben wir eine Signal-Gruppe eingerichtet.Ihr könnt entweder über den QR-Code \n \noder über den Signal-Gruppenlink beitreten: Link \nSolltet ihr Fragen haben\, schreibt uns gern kurz in der Gruppe. \n \n 
URL:https://borderlinerheinmain.de/event/kaffee-kultur-karikaturen-ein-humorvoller-fruehlingsnachmittag-mit-perscheid/
LOCATION:Caricatura Museum\, Weckmarkt 17\, 60311 Frankfurt am Main\, Weckmarkt 17\, Frankfurt am Main\, Hessen\, 60311\, Germany
ORGANIZER;CN="Borderline Rhein-Main e. V.":MAILTO:trialog@borderlinerheinmain.de
END:VEVENT
END:VCALENDAR