BEGIN:VCALENDAR
VERSION:2.0
PRODID:-//Borderline Rhein-Main e. V. - ECPv6.15.20//NONSGML v1.0//EN
CALSCALE:GREGORIAN
METHOD:PUBLISH
X-ORIGINAL-URL:https://borderlinerheinmain.de
X-WR-CALDESC:Veranstaltungen für Borderline Rhein-Main e. V.
REFRESH-INTERVAL;VALUE=DURATION:PT1H
X-Robots-Tag:noindex
X-PUBLISHED-TTL:PT1H
BEGIN:VTIMEZONE
TZID:Europe/Berlin
BEGIN:DAYLIGHT
TZOFFSETFROM:+0100
TZOFFSETTO:+0200
TZNAME:CEST
DTSTART:20250330T010000
END:DAYLIGHT
BEGIN:STANDARD
TZOFFSETFROM:+0200
TZOFFSETTO:+0100
TZNAME:CET
DTSTART:20251026T010000
END:STANDARD
BEGIN:DAYLIGHT
TZOFFSETFROM:+0100
TZOFFSETTO:+0200
TZNAME:CEST
DTSTART:20260329T010000
END:DAYLIGHT
BEGIN:STANDARD
TZOFFSETFROM:+0200
TZOFFSETTO:+0100
TZNAME:CET
DTSTART:20261025T010000
END:STANDARD
BEGIN:DAYLIGHT
TZOFFSETFROM:+0100
TZOFFSETTO:+0200
TZNAME:CEST
DTSTART:20270328T010000
END:DAYLIGHT
BEGIN:STANDARD
TZOFFSETFROM:+0200
TZOFFSETTO:+0100
TZNAME:CET
DTSTART:20271031T010000
END:STANDARD
END:VTIMEZONE
BEGIN:VEVENT
DTSTART;TZID=Europe/Berlin:20260326T180000
DTEND;TZID=Europe/Berlin:20260326T193000
DTSTAMP:20260425T022158
CREATED:20251230T145425Z
LAST-MODIFIED:20260423T165019Z
UID:4027-1774548000-1774553400@borderlinerheinmain.de
SUMMARY:Trialog in Präsenz
DESCRIPTION:Im März möchten wir die Gelegenheit nutzen und wieder einen Trialog in Präsenz veranstalten. Dank der freundlichen Unterstützung der Vitos Klinik Bad Soden stehen uns dafür die Räumlichkeiten dieser kleinen\, aber feinen Psychiatrie zur Verfügung. \nWir treffen uns am 26. März 2026 vor Ort\, um uns gemeinsam mit Patient:innen\, Angehörigen und Mitarbeitenden der Klinik auszutauschen. \nWichtig: Eingeladen sind nicht nur Borderline-Betroffene – sondern alle Betroffenen\, Angehörige und Unterstützer:innen psychischer Erkrankungen sind herzlich willkommen! \nDer Trialog findet wie gewohnt von 18:00 bis 19:30 Uhr statt.\nFür eine bessere Planung bitten wir hier\, um eine kurze Registrierung. \nWir freuen uns riesig\, Euch persönlich treffen zu können und uns mit Euch auszutauschen! \nEuer \nBorderline Rhein Main e.V. Team
URL:https://borderlinerheinmain.de/event/4027/
LOCATION:Vitos Klinik Bad Soden\, Sebastian-Kneipp-Straße 11\, Bad Soden am Taunus\, Hessen\, 65812\, Germany
ORGANIZER;CN="Borderline Rhein-Main e. V.":MAILTO:trialog@borderlinerheinmain.de
END:VEVENT
END:VCALENDAR