BEGIN:VCALENDAR
VERSION:2.0
PRODID:-//Borderline Rhein-Main e. V. - ECPv6.15.20//NONSGML v1.0//EN
CALSCALE:GREGORIAN
METHOD:PUBLISH
X-WR-CALNAME:Borderline Rhein-Main e. V.
X-ORIGINAL-URL:https://borderlinerheinmain.de
X-WR-CALDESC:Veranstaltungen für Borderline Rhein-Main e. V.
REFRESH-INTERVAL;VALUE=DURATION:PT1H
X-Robots-Tag:noindex
X-PUBLISHED-TTL:PT1H
BEGIN:VTIMEZONE
TZID:Europe/Berlin
BEGIN:DAYLIGHT
TZOFFSETFROM:+0100
TZOFFSETTO:+0200
TZNAME:CEST
DTSTART:20250330T010000
END:DAYLIGHT
BEGIN:STANDARD
TZOFFSETFROM:+0200
TZOFFSETTO:+0100
TZNAME:CET
DTSTART:20251026T010000
END:STANDARD
BEGIN:DAYLIGHT
TZOFFSETFROM:+0100
TZOFFSETTO:+0200
TZNAME:CEST
DTSTART:20260329T010000
END:DAYLIGHT
BEGIN:STANDARD
TZOFFSETFROM:+0200
TZOFFSETTO:+0100
TZNAME:CET
DTSTART:20261025T010000
END:STANDARD
BEGIN:DAYLIGHT
TZOFFSETFROM:+0100
TZOFFSETTO:+0200
TZNAME:CEST
DTSTART:20270328T010000
END:DAYLIGHT
BEGIN:STANDARD
TZOFFSETFROM:+0200
TZOFFSETTO:+0100
TZNAME:CET
DTSTART:20271031T010000
END:STANDARD
END:VTIMEZONE
BEGIN:VEVENT
DTSTART;TZID=Europe/Berlin:20260210T180000
DTEND;TZID=Europe/Berlin:20260210T193000
DTSTAMP:20260425T033958
CREATED:20251221T123105Z
LAST-MODIFIED:20260210T145357Z
UID:3963-1770746400-1770751800@borderlinerheinmain.de
SUMMARY:Frankfurter (Online) Borderline Trialog Februar 2026
DESCRIPTION:Einladung zum Borderline-Trialog (Online) \nLiebe Trialog-Interessierte\, \nunser zweiter Online-Trialog in diesem Jahr findet am 10. Februar 2026 von 18:00 bis 19:30 Uhr statt. \nEinstiegsthema: „Borderline – Was hilft?“ \nHier können Sie sich registrieren \nTechnisches: \n\nWir nutzen Microsoft Teams. Sie können die App für Windows\, macOS\, Linux\, iOS oder Android installieren oder direkt über die Browser Google Chrome oder Microsoft Edge teilnehmen (Installation ist also nicht zwingend erforderlich).\nBitte führen Sie die Installation bzw. den Technik-Check nicht erst kurz vor Beginn durch. Planen Sie am besten 30 Minuten vorher oder schon am Vortag ein – so bleibt Zeit für eventuelle Fragen.\n\nWichtige Hinweise zur Anmeldung: \n\nUnter Vorname bitte den Namen angeben\, unter dem Sie angesprochen werden möchten.\nUnter Nachname tragen Sie bitte Ihre Gruppe ein: Betroffene / Angehörige / Profi / Interessierte.\nSie müssen nicht Ihren vollen Namen verwenden; Vorname oder Pseudonym genügen.\n\nBitte seien Sie bis 17:45 Uhr eingeloggt\, damit wir kurz die wichtigsten Funktionen und die Gruppenregeln vorstellen können. \nWir freuen uns auf den Austausch und darauf\, den Abend gemeinsam mit Ihnen bereichernd zu gestalten! \nHerzliche Grüße\nIhr Trialog-Orga-Team
URL:https://borderlinerheinmain.de/event/online-borderline-trialog-am-10-februar-2026/
END:VEVENT
END:VCALENDAR