BEGIN:VCALENDAR
VERSION:2.0
PRODID:-//Borderline Rhein-Main e. V. - ECPv6.15.20//NONSGML v1.0//EN
CALSCALE:GREGORIAN
METHOD:PUBLISH
X-ORIGINAL-URL:https://borderlinerheinmain.de
X-WR-CALDESC:Veranstaltungen für Borderline Rhein-Main e. V.
REFRESH-INTERVAL;VALUE=DURATION:PT1H
X-Robots-Tag:noindex
X-PUBLISHED-TTL:PT1H
BEGIN:VTIMEZONE
TZID:Europe/Berlin
BEGIN:DAYLIGHT
TZOFFSETFROM:+0100
TZOFFSETTO:+0200
TZNAME:CEST
DTSTART:20250330T010000
END:DAYLIGHT
BEGIN:STANDARD
TZOFFSETFROM:+0200
TZOFFSETTO:+0100
TZNAME:CET
DTSTART:20251026T010000
END:STANDARD
BEGIN:DAYLIGHT
TZOFFSETFROM:+0100
TZOFFSETTO:+0200
TZNAME:CEST
DTSTART:20260329T010000
END:DAYLIGHT
BEGIN:STANDARD
TZOFFSETFROM:+0200
TZOFFSETTO:+0100
TZNAME:CET
DTSTART:20261025T010000
END:STANDARD
BEGIN:DAYLIGHT
TZOFFSETFROM:+0100
TZOFFSETTO:+0200
TZNAME:CEST
DTSTART:20270328T010000
END:DAYLIGHT
BEGIN:STANDARD
TZOFFSETFROM:+0200
TZOFFSETTO:+0100
TZNAME:CET
DTSTART:20271031T010000
END:STANDARD
END:VTIMEZONE
BEGIN:VEVENT
DTSTART;TZID=Europe/Berlin:20260207T113000
DTEND;TZID=Europe/Berlin:20260207T140000
DTSTAMP:20260425T034328
CREATED:20251201T114934Z
LAST-MODIFIED:20260129T103130Z
UID:3952-1770463800-1770472800@borderlinerheinmain.de
SUMMARY:Winterwanderung
DESCRIPTION:Am Samstag den 7. Februar 2026 laden wir Sie herzlich zu einem gemeinsamen Winterspaziergang mit Einkehr im Landgasthof Saalburg ein (Speisen und Getränke zahlt jeder selbst).\n\nWir treffen uns um 11:30 Uhr an der Bushaltestelle Bad Homburg Saalburg (Anfahrt aus Frankfurt: S 5  bis Bahnhof Bad Homburg\, dort 11:05 Uhr Abfahrt Bus Linie 5 Richtung Saalburg/ Hessenpark\, Ankunft 11:25 Uhr).\nDer Rundweg Saalburg dauert etwa 1 Stunde. Wir können dort archäologische Denkmäler und rekonstruierte römische Gebäude sehen. Danach haben wir Tische im Landgasthof reserviert.\n\nHier können sie sich registrieren: Link\n\n\n\nUPDATE: Aufgrund geänderter Abfahrtszeiten im öffentlichen Nahverkehr haben wir die Startzeit der Winterwanderung um 30 Minuten nach hinten verschoben.
URL:https://borderlinerheinmain.de/event/winterwanderung-2/
LOCATION:Römerkastell Saalburg\, Am Römerkastell 1\, Bad Homburg\, Hessen\, 61350\, Germany
ORGANIZER;CN="Borderline Rhein-Main e. V.":MAILTO:trialog@borderlinerheinmain.de
END:VEVENT
END:VCALENDAR