BEGIN:VCALENDAR
VERSION:2.0
PRODID:-//Borderline Rhein-Main e. V. - ECPv6.15.20//NONSGML v1.0//EN
CALSCALE:GREGORIAN
METHOD:PUBLISH
X-ORIGINAL-URL:https://borderlinerheinmain.de
X-WR-CALDESC:Veranstaltungen für Borderline Rhein-Main e. V.
REFRESH-INTERVAL;VALUE=DURATION:PT1H
X-Robots-Tag:noindex
X-PUBLISHED-TTL:PT1H
BEGIN:VTIMEZONE
TZID:Europe/Berlin
BEGIN:DAYLIGHT
TZOFFSETFROM:+0100
TZOFFSETTO:+0200
TZNAME:CEST
DTSTART:20240331T010000
END:DAYLIGHT
BEGIN:STANDARD
TZOFFSETFROM:+0200
TZOFFSETTO:+0100
TZNAME:CET
DTSTART:20241027T010000
END:STANDARD
BEGIN:DAYLIGHT
TZOFFSETFROM:+0100
TZOFFSETTO:+0200
TZNAME:CEST
DTSTART:20250330T010000
END:DAYLIGHT
BEGIN:STANDARD
TZOFFSETFROM:+0200
TZOFFSETTO:+0100
TZNAME:CET
DTSTART:20251026T010000
END:STANDARD
BEGIN:DAYLIGHT
TZOFFSETFROM:+0100
TZOFFSETTO:+0200
TZNAME:CEST
DTSTART:20260329T010000
END:DAYLIGHT
BEGIN:STANDARD
TZOFFSETFROM:+0200
TZOFFSETTO:+0100
TZNAME:CET
DTSTART:20261025T010000
END:STANDARD
END:VTIMEZONE
BEGIN:VEVENT
DTSTART;TZID=Europe/Berlin:20250703T180000
DTEND;TZID=Europe/Berlin:20250703T200000
DTSTAMP:20260425T122431
CREATED:20250425T055327Z
LAST-MODIFIED:20250903T044544Z
UID:3493-1751565600-1751572800@borderlinerheinmain.de
SUMMARY:Frankfurter (Präsenz) Borderline Trialog Juli 2025
DESCRIPTION:Im Juli wollen wir die Gelegenheit nutzen und wieder einmal einen Trialog in Präsenz stattfinden lassen. Die Vitos Klinik Bad Soden stellt uns die Räumlichkeiten dafür zur Verfügung.\n\nWir werden uns am 03. Juli 2025 in den Räumlichkeiten dieser kleinen\, aber feinen Psychiatrie treffen und können uns dort gemeinsam mit den Patienten\, Angehörigen und Personal der Klinik austauschen.\n\nAchtung\, zu diesem Trialog sind nicht nur Borderline-Betroffene\, sondern Betroffene\, Angehörige und Helfer aller psychischen Erkrankungen eingeladen\, sich gemeinsam auszutauschen.\n\n\n\nDer Präsenz-Trialog findet altbewährt von 18.00 bis 19.30 Uhr statt.\nFür eine bessere Planung bitten wir hier\, um eine kurze Registrierung. \n\n\nWir freuen uns riesig\, Euch persönlich\, analog und in „3D“ treffen zu können und uns mit Euch auszutauschen! \n\n\nEuer und Borderline Rhein Main e. V. Team
URL:https://borderlinerheinmain.de/event/frankfurter-praesenz-borderline-trialog/
LOCATION:Vitos Klinik Bad Soden\, Sebastian-Kneipp-Straße 11\, Bad Soden am Taunus\, Hessen\, 65812\, Germany
ORGANIZER;CN="Borderline Rhein-Main e. V.":MAILTO:trialog@borderlinerheinmain.de
END:VEVENT
END:VCALENDAR